BEGIN:VCALENDAR
VERSION:2.0
PRODID:-//midwestchildcare.org//NONSGML kigkonsult.se iCalcreator 2.30.10//
CALSCALE:GREGORIAN
METHOD:PUBLISH
UID:c64ca6e3-4882-4a1f-9f2c-4cb14d52bbed
X-WR-CALDESC:
X-WR-RELCALID:aedb2c68b595f8a38b14338627a38df1
X-WR-TIMEZONE:America/Chicago
BEGIN:VTIMEZONE
TZID:America/Chicago
BEGIN:STANDARD
TZNAME:CST
DTSTART:20231105T020000
TZOFFSETFROM:-0500
TZOFFSETTO:-0600
RDATE:20241103T020000
RDATE:20251102T020000
END:STANDARD
BEGIN:DAYLIGHT
TZNAME:CDT
DTSTART:20240310T020000
TZOFFSETFROM:-0600
TZOFFSETTO:-0500
RDATE:20250309T020000
END:DAYLIGHT
END:VTIMEZONE
BEGIN:VEVENT
UID:aaa59895-7631-4826-a75c-b4db609f6320
DTSTAMP:20260425T140914Z
DESCRIPTION:
DTSTART;TZID=America/Chicago:20240603T000000
DTEND;TZID=America/Chicago:20240603T235900
LOCATION:
SUMMARY:CACFP Claim is due!
END:VEVENT
END:VCALENDAR
