BEGIN:VCALENDAR
VERSION:2.0
PRODID:-//midwestchildcare.org//NONSGML kigkonsult.se iCalcreator 2.30.10//
CALSCALE:GREGORIAN
METHOD:PUBLISH
UID:62a8df52-2b2b-475d-b645-764f5664498c
X-WR-CALDESC:Emi Isn't Scared of Monsters | An Interactive Preschool Class
 \n\nYou are invited to a Zoom meeting.\nWhen: May 30\, 2024 09:00 AM Centr
 al Time (US and Canada)\n\nRegister in advance for this meeting:\nhttps://
 us02web.zoom.us/meeting/register/tZYqcuyhqz8uEtS_o-At6zRW6YBLJT2eSVj5\n\nA
 fter registering\, you will receive a confirmation email containing inform
 ation about joining the meeting.
X-WR-RELCALID:25f56d45c7839c3bc4eefbff3796c5db
X-WR-TIMEZONE:America/Chicago
BEGIN:VTIMEZONE
TZID:America/Chicago
BEGIN:STANDARD
TZNAME:CST
DTSTART:20231105T020000
TZOFFSETFROM:-0500
TZOFFSETTO:-0600
RDATE:20241103T020000
RDATE:20251102T020000
END:STANDARD
BEGIN:DAYLIGHT
TZNAME:CDT
DTSTART:20240310T020000
TZOFFSETFROM:-0600
TZOFFSETTO:-0500
RDATE:20250309T020000
END:DAYLIGHT
END:VTIMEZONE
BEGIN:VEVENT
UID:cac0ab4a-f42f-4d65-995e-209c4351cea8
DTSTAMP:20260425T160417Z
DESCRIPTION:Emi Isn't Scared of Monsters | An Interactive Preschool Class\n
 \nYou are invited to a Zoom meeting.\nWhen: May 30\, 2024 09:00 AM Central
  Time (US and Canada)\n\nRegister in advance for this meeting:\nhttps://us
 02web.zoom.us/meeting/register/tZYqcuyhqz8uEtS_o-At6zRW6YBLJT2eSVj5\n\nAft
 er registering\, you will receive a confirmation email containing informat
 ion about joining the meeting.
DTSTART;TZID=America/Chicago:20240530T090000
DTEND;TZID=America/Chicago:20240530T100000
LOCATION:https://us02web.zoom.us/meeting/register/tZYqcuyhqz8uEtS_o-At6zRW6
 YBLJT2eSVj5
SUMMARY:Emi Isn't Scared of Monsters | An Interactive Preschool Class
END:VEVENT
END:VCALENDAR
