BEGIN:VCALENDAR
VERSION:2.0
PRODID:-//midwestchildcare.org//NONSGML kigkonsult.se iCalcreator 2.30.10//
CALSCALE:GREGORIAN
METHOD:PUBLISH
UID:1b3b0f84-c5a5-4a71-a90e-b4a77b511621
X-WR-CALDESC:HSI Pediatric First Aid | CPR AED Child/Infant/Adult (2020)\n
 \nCLASS NUMBER:	31662195\nCLASS TYPE:	Classroom Training\n\nLOCATION:	\n7200 
 S 84th St\nLaVista\, NE 68128\nDATE/TIME:	05/23/2024\, 6:00 PM - 8:00 PM\n
 \n5/23 Zoom *Renewal* Class & Hands On by appt (takes 30 mins)\n\nTo regis
 ter visit https://otis.osmanager4.com/#/openEnrollment?co=1&cid=4113991
X-WR-RELCALID:57bedfec40962310a551fa7f8cd9af87
X-WR-TIMEZONE:America/Chicago
BEGIN:VTIMEZONE
TZID:America/Chicago
BEGIN:STANDARD
TZNAME:CST
DTSTART:20231105T020000
TZOFFSETFROM:-0500
TZOFFSETTO:-0600
RDATE:20241103T020000
RDATE:20251102T020000
END:STANDARD
BEGIN:DAYLIGHT
TZNAME:CDT
DTSTART:20240310T020000
TZOFFSETFROM:-0600
TZOFFSETTO:-0500
RDATE:20250309T020000
END:DAYLIGHT
END:VTIMEZONE
BEGIN:VEVENT
UID:6d83fffb-a081-41e7-8f8d-cdbeb3e92442
DTSTAMP:20260425T160607Z
DESCRIPTION:HSI Pediatric First Aid | CPR AED Child/Infant/Adult (2020)\n\n
 CLASS NUMBER:	31662195\nCLASS TYPE:	Classroom Training\n\nLOCATION:	\n7200 S 
 84th St\nLaVista\, NE 68128\nDATE/TIME:	05/23/2024\, 6:00 PM - 8:00 PM\n\n5
 /23 Zoom *Renewal* Class & Hands On by appt (takes 30 mins)\n\nTo register
  visit https://otis.osmanager4.com/#/openEnrollment?co=1&cid=4113991
DTSTART;TZID=America/Chicago:20240523T180000
DTEND;TZID=America/Chicago:20240523T200000
LOCATION:7200 S 84th St\, LaVista\, NE 68128 US
SUMMARY:HSI Pediatric First Aid | CPR AED Child/Infant/Adult (2020)
END:VEVENT
END:VCALENDAR
