BEGIN:VCALENDAR
VERSION:2.0
PRODID:-//midwestchildcare.org//NONSGML kigkonsult.se iCalcreator 2.30.10//
CALSCALE:GREGORIAN
METHOD:PUBLISH
UID:bec5b7f6-fec8-4943-80e2-cc989132807d
X-WR-CALDESC:Important Nutrients for Children's Health | Interactive Webina
 r\n\nPlease register for Important Nutrients for Children's Health on May 
 20\, 2024 7:00 PM CDT at:\n\nhttps://attendee.gotowebinar.com/register/919
 4709306576079703\n\nAfter registering\, you will receive a confirmation em
 ail containing information about joining the webinar.
X-WR-RELCALID:d60275612bed1f089a5ca6072122bca2
X-WR-TIMEZONE:America/Chicago
BEGIN:VTIMEZONE
TZID:America/Chicago
BEGIN:STANDARD
TZNAME:CST
DTSTART:20231105T020000
TZOFFSETFROM:-0500
TZOFFSETTO:-0600
RDATE:20241103T020000
RDATE:20251102T020000
END:STANDARD
BEGIN:DAYLIGHT
TZNAME:CDT
DTSTART:20240310T020000
TZOFFSETFROM:-0600
TZOFFSETTO:-0500
RDATE:20250309T020000
END:DAYLIGHT
END:VTIMEZONE
BEGIN:VEVENT
UID:28bb72df-cc97-4a28-9b84-4a2ca5e66d26
DTSTAMP:20260425T161048Z
DESCRIPTION:Important Nutrients for Children's Health | Interactive Webinar
 \n\nPlease register for Important Nutrients for Children's Health on May 2
 0\, 2024 7:00 PM CDT at:\n\nhttps://attendee.gotowebinar.com/register/9194
 709306576079703\n\nAfter registering\, you will receive a confirmation ema
 il containing information about joining the webinar.
DTSTART;TZID=America/Chicago:20240520T190000
DTEND;TZID=America/Chicago:20240520T200000
LOCATION:https://attendee.gotowebinar.com/register/9194709306576079703
SUMMARY:Important Nutrients for Children's Health | Interactive Webinar
END:VEVENT
END:VCALENDAR
