BEGIN:VCALENDAR
VERSION:2.0
PRODID:-//midwestchildcare.org//NONSGML kigkonsult.se iCalcreator 2.30.10//
CALSCALE:GREGORIAN
METHOD:PUBLISH
UID:7391ceae-6654-4ab8-9619-066332ca110d
X-WR-CALDESC:HSI Pediatric First Aid | CPR AED Child/Infant/Adult (2020)\n
 \nCLASS NUMBER:	31662187\nCLASS TYPE:	Classroom Training\n\nLOCATION:	\n7701 
 Pacific St\nOmaha\, NE 68114\nDATE/TIME:	05/09/2024\, 6:00 PM - 10:00 PM\n
 \nTo register visit https://otis.osmanager4.com/#/openEnrollment?co=1&cid=
 3673044
X-WR-RELCALID:24f64c8dadd7d6da9b4113128a948abf
X-WR-TIMEZONE:America/Chicago
BEGIN:VTIMEZONE
TZID:America/Chicago
BEGIN:STANDARD
TZNAME:CST
DTSTART:20231105T020000
TZOFFSETFROM:-0500
TZOFFSETTO:-0600
RDATE:20241103T020000
RDATE:20251102T020000
END:STANDARD
BEGIN:DAYLIGHT
TZNAME:CDT
DTSTART:20240310T020000
TZOFFSETFROM:-0600
TZOFFSETTO:-0500
RDATE:20250309T020000
END:DAYLIGHT
END:VTIMEZONE
BEGIN:VEVENT
UID:918daf97-be84-4d05-b3c5-aedcbd8cbd5a
DTSTAMP:20260425T160951Z
DESCRIPTION:HSI Pediatric First Aid | CPR AED Child/Infant/Adult (2020)\n\n
 CLASS NUMBER:	31662187\nCLASS TYPE:	Classroom Training\n\nLOCATION:	\n7701 Pa
 cific St\nOmaha\, NE 68114\nDATE/TIME:	05/09/2024\, 6:00 PM - 10:00 PM\n\nT
 o register visit https://otis.osmanager4.com/#/openEnrollment?co=1&cid=367
 3044
DTSTART;TZID=America/Chicago:20240509T050000
DTEND;TZID=America/Chicago:20240509T050001
LOCATION:7701 Pacific St\, Omaha\, NE 68114 US
SUMMARY:HSI Pediatric First Aid | CPR AED Child/Infant/Adult (2020)
END:VEVENT
END:VCALENDAR
