BEGIN:VCALENDAR
VERSION:2.0
PRODID:-//midwestchildcare.org//NONSGML kigkonsult.se iCalcreator 2.30.10//
CALSCALE:GREGORIAN
METHOD:PUBLISH
UID:69936f2b-8d2d-4d4e-a8c5-03d1d1651253
X-WR-CALDESC:
X-WR-RELCALID:ea1660a999cc2e5f133167575b207fe0
X-WR-TIMEZONE:America/Chicago
BEGIN:VTIMEZONE
TZID:America/Chicago
BEGIN:STANDARD
TZNAME:CST
DTSTART:20231105T020000
TZOFFSETFROM:-0500
TZOFFSETTO:-0600
RDATE:20241103T020000
RDATE:20251102T020000
END:STANDARD
BEGIN:DAYLIGHT
TZNAME:CDT
DTSTART:20240310T020000
TZOFFSETFROM:-0600
TZOFFSETTO:-0500
RDATE:20250309T020000
END:DAYLIGHT
END:VTIMEZONE
BEGIN:VEVENT
UID:21366cca-3a68-470b-a11e-327a79909d0a
DTSTAMP:20260425T160757Z
DESCRIPTION:
DTSTART;TZID=America/Chicago:20240503T000000
DTEND;TZID=America/Chicago:20240503T235900
LOCATION:
SUMMARY:CACFP Claim is due!
END:VEVENT
END:VCALENDAR
