BEGIN:VCALENDAR
VERSION:2.0
PRODID:-//midwestchildcare.org//NONSGML kigkonsult.se iCalcreator 2.30.10//
CALSCALE:GREGORIAN
METHOD:PUBLISH
UID:6a86b953-9d19-4e3d-8d33-e3adc768f7a7
X-WR-CALDESC:Food Safety Best Practices\n\nPlease register for Food Safety 
 Best Practices on Apr 30\, 2024 7:00 PM CDT at:\n\nhttps://attendee.gotowe
 binar.com/register/5311800485692868693\n\nAfter registering\, you will rec
 eive a confirmation email containing information about joining the webinar
 .
X-WR-RELCALID:c06277da03315aad06fc24daa8d6e4cc
X-WR-TIMEZONE:America/Chicago
BEGIN:VTIMEZONE
TZID:America/Chicago
BEGIN:STANDARD
TZNAME:CST
DTSTART:20231105T020000
TZOFFSETFROM:-0500
TZOFFSETTO:-0600
RDATE:20241103T020000
END:STANDARD
BEGIN:DAYLIGHT
TZNAME:CDT
DTSTART:20240310T020000
TZOFFSETFROM:-0600
TZOFFSETTO:-0500
RDATE:20250309T020000
END:DAYLIGHT
END:VTIMEZONE
BEGIN:VEVENT
UID:abc153a2-64de-4d39-b760-954a5e7e5c7e
DTSTAMP:20260425T181555Z
DESCRIPTION:Food Safety Best Practices\n\nPlease register for Food Safety B
 est Practices on Apr 30\, 2024 7:00 PM CDT at:\n\nhttps://attendee.gotoweb
 inar.com/register/5311800485692868693\n\nAfter registering\, you will rece
 ive a confirmation email containing information about joining the webinar.
DTSTART;TZID=America/Chicago:20240430T190000
DTEND;TZID=America/Chicago:20240430T200000
LOCATION:https://attendee.gotowebinar.com/register/5311800485692868693
SUMMARY:Food Safety Best Practices | Interactive Webinar
END:VEVENT
END:VCALENDAR
