BEGIN:VCALENDAR
VERSION:2.0
PRODID:-//midwestchildcare.org//NONSGML kigkonsult.se iCalcreator 2.30.10//
CALSCALE:GREGORIAN
METHOD:PUBLISH
UID:c355a46f-0fa8-4fce-8c87-987f6c0e8e15
X-WR-CALDESC:Bounce | An Interactive Preschool Class\n\nYou are invited to 
 a Zoom meeting.\nWhen: Apr 18\, 2024 10:00 AM Central Time (US and Canada)
 \n\nRegister in advance for this meeting:\nhttps://us02web.zoom.us/meeting
 /register/tZEsf-irrjsvHdQni52HzCxeD6UJOpNb7rSB\n\nAfter registering\, you 
 will receive a confirmation email containing information about joining the
  meeting.
X-WR-RELCALID:ae9cc2467651200709d3c8d85e474557
X-WR-TIMEZONE:America/Chicago
BEGIN:VTIMEZONE
TZID:America/Chicago
BEGIN:STANDARD
TZNAME:CST
DTSTART:20231105T020000
TZOFFSETFROM:-0500
TZOFFSETTO:-0600
RDATE:20241103T020000
END:STANDARD
BEGIN:DAYLIGHT
TZNAME:CDT
DTSTART:20240310T020000
TZOFFSETFROM:-0600
TZOFFSETTO:-0500
RDATE:20250309T020000
END:DAYLIGHT
END:VTIMEZONE
BEGIN:VEVENT
UID:6388f0fe-3104-4856-a984-5737f7eb1a7d
DTSTAMP:20260425T181339Z
DESCRIPTION:Bounce | An Interactive Preschool Class\n\nYou are invited to a
  Zoom meeting.\nWhen: Apr 18\, 2024 10:00 AM Central Time (US and Canada)
 \n\nRegister in advance for this meeting:\nhttps://us02web.zoom.us/meeting
 /register/tZEsf-irrjsvHdQni52HzCxeD6UJOpNb7rSB\n\nAfter registering\, you 
 will receive a confirmation email containing information about joining the
  meeting.
DTSTART;TZID=America/Chicago:20240418T100000
DTEND;TZID=America/Chicago:20240418T110000
LOCATION:https://us02web.zoom.us/meeting/register/tZEsf-irrjsvHdQni52HzCxeD
 6UJOpNb7rSB
SUMMARY:Bounce | An Interactive Preschool Class
END:VEVENT
END:VCALENDAR
