BEGIN:VCALENDAR
VERSION:2.0
PRODID:-//midwestchildcare.org//NONSGML kigkonsult.se iCalcreator 2.30.10//
CALSCALE:GREGORIAN
METHOD:PUBLISH
UID:3d055175-06e2-4b69-a0a2-7104dde15e80
X-WR-CALDESC:I say OOH\, You say AAH! | An Interactive Preschool Class\n\nW
 hen: Apr 11\, 2024 09:00 AM Central Time (US and Canada)\n\nRegister in ad
 vance for this meeting:\nhttps://us02web.zoom.us/meeting/register/tZMpcuur
 rz0tG9ckSRpRbikBlZl5dbOVXqrh\n\nAfter registering\, you will receive a con
 firmation email containing information about joining the meeting.
X-WR-RELCALID:83713ad388eb3045fb4e8dff7ed83de1
X-WR-TIMEZONE:America/Chicago
BEGIN:VTIMEZONE
TZID:America/Chicago
BEGIN:STANDARD
TZNAME:CST
DTSTART:20231105T020000
TZOFFSETFROM:-0500
TZOFFSETTO:-0600
RDATE:20241103T020000
END:STANDARD
BEGIN:DAYLIGHT
TZNAME:CDT
DTSTART:20240310T020000
TZOFFSETFROM:-0600
TZOFFSETTO:-0500
RDATE:20250309T020000
END:DAYLIGHT
END:VTIMEZONE
BEGIN:VEVENT
UID:214c8077-be78-4a01-a15c-058896559d9e
DTSTAMP:20260425T180845Z
DESCRIPTION:I say OOH\, You say AAH! | An Interactive Preschool Class\n\nWh
 en: Apr 11\, 2024 09:00 AM Central Time (US and Canada)\n\nRegister in adv
 ance for this meeting:\nhttps://us02web.zoom.us/meeting/register/tZMpcuurr
 z0tG9ckSRpRbikBlZl5dbOVXqrh\n\nAfter registering\, you will receive a conf
 irmation email containing information about joining the meeting.
DTSTART;TZID=America/Chicago:20240411T090000
DTEND;TZID=America/Chicago:20240411T100000
LOCATION:https://us02web.zoom.us/meeting/register/tZMpcuurrz0tG9ckSRpRbikBl
 Zl5dbOVXqrh
SUMMARY:I say OOH\, You say AAH! | An Interactive Preschool Class
END:VEVENT
END:VCALENDAR
