BEGIN:VCALENDAR
VERSION:2.0
PRODID:-//midwestchildcare.org//NONSGML kigkonsult.se iCalcreator 2.30.10//
CALSCALE:GREGORIAN
METHOD:PUBLISH
UID:c1997fb4-f98f-4b23-9add-32e293cd2c72
X-WR-CALDESC:
X-WR-RELCALID:d545ae65611125994127055e49074dce
X-WR-TIMEZONE:America/Chicago
BEGIN:VTIMEZONE
TZID:America/Chicago
BEGIN:STANDARD
TZNAME:CST
DTSTART:20231105T020000
TZOFFSETFROM:-0500
TZOFFSETTO:-0600
RDATE:20241103T020000
END:STANDARD
BEGIN:DAYLIGHT
TZNAME:CDT
DTSTART:20240310T020000
TZOFFSETFROM:-0600
TZOFFSETTO:-0500
RDATE:20250309T020000
END:DAYLIGHT
END:VTIMEZONE
BEGIN:VEVENT
UID:c54b548a-ee43-4e72-aad5-09dfaec01c47
DTSTAMP:20260425T181650Z
DESCRIPTION:
DTSTART;TZID=America/Chicago:20240403T000000
DTEND;TZID=America/Chicago:20240403T235900
LOCATION:
SUMMARY:CACFP Claim is due!
END:VEVENT
END:VCALENDAR
