BEGIN:VCALENDAR
VERSION:2.0
PRODID:-//midwestchildcare.org//NONSGML kigkonsult.se iCalcreator 2.30.10//
CALSCALE:GREGORIAN
METHOD:PUBLISH
UID:4d1b7d73-8dde-4b06-8dc4-c3d88c04cc15
X-WR-CALDESC:The Leprechaun Who Lost His Rainbow | An Interactive Preschool
  Class\n\nYou are invited to a Zoom meeting.\nWhen: Mar 14\, 2024 09:00 AM
  Central Time (US and Canada)\n\nRegister in advance for this meeting:\nht
 tps://us02web.zoom.us/meeting/register/tZEsdOGppj0qGdWzHGHZSeGXbn7LJ10mIUW
 H\n\nAfter registering\, you will receive a confirmation email containing 
 information about joining the meeting.
X-WR-RELCALID:a039a7d405117de30ec08e174c140dc9
X-WR-TIMEZONE:America/Chicago
BEGIN:VTIMEZONE
TZID:America/Chicago
BEGIN:STANDARD
TZNAME:CST
DTSTART:20231105T020000
TZOFFSETFROM:-0500
TZOFFSETTO:-0600
RDATE:20241103T020000
END:STANDARD
BEGIN:DAYLIGHT
TZNAME:CDT
DTSTART:20240310T020000
TZOFFSETFROM:-0600
TZOFFSETTO:-0500
RDATE:20250309T020000
END:DAYLIGHT
END:VTIMEZONE
BEGIN:VEVENT
UID:1aea0696-a64f-42f0-9246-402f3a5a7c61
DTSTAMP:20260425T203335Z
DESCRIPTION:The Leprechaun Who Lost His Rainbow | An Interactive Preschool 
 Class\n\nYou are invited to a Zoom meeting.\nWhen: Mar 14\, 2024 09:00 AM 
 Central Time (US and Canada)\n\nRegister in advance for this meeting:\nhtt
 ps://us02web.zoom.us/meeting/register/tZEsdOGppj0qGdWzHGHZSeGXbn7LJ10mIUWH
 \n\nAfter registering\, you will receive a confirmation email containing i
 nformation about joining the meeting.
DTSTART;TZID=America/Chicago:20240314T090000
DTEND;TZID=America/Chicago:20240314T090300
LOCATION:https://us02web.zoom.us/meeting/register/tZEsdOGppj0qGdWzHGHZSeGXb
 n7LJ10mIUWH
SUMMARY:The Leprechaun Who Lost His Rainbow | An Interactive Preschool Clas
 s
END:VEVENT
END:VCALENDAR
