BEGIN:VCALENDAR
VERSION:2.0
PRODID:-//midwestchildcare.org//NONSGML kigkonsult.se iCalcreator 2.30.10//
CALSCALE:GREGORIAN
METHOD:PUBLISH
UID:23f61e7f-7147-440e-88ab-3cd54d55e17a
X-WR-CALDESC:HSI Pediatric First Aid | CPR AED Child/Infant/Adult (2020)\n
 \nCLASS NUMBER:	31662171\nCLASS TYPE:	Classroom Training\n\nLOCATION:	\n7200 
 S 84th St\nLaVista\, NE 68128\nDATE/TIME:	03/14/2024\, 6:00 PM - 8:00 PM\n3
 /14 Zoom (6 to 8 PM) & In Person Hands On By Appt (takes about 30 mins)\n
 \nTo Register visit https://otis.osmanager4.com/#/openEnrollment?co=1&cid=
 4121482\n
X-WR-RELCALID:24d59ad8836d5c81b09cb6f0e725dbec
X-WR-TIMEZONE:America/Chicago
BEGIN:VTIMEZONE
TZID:America/Chicago
BEGIN:STANDARD
TZNAME:CST
DTSTART:20231105T020000
TZOFFSETFROM:-0500
TZOFFSETTO:-0600
RDATE:20241103T020000
END:STANDARD
BEGIN:DAYLIGHT
TZNAME:CDT
DTSTART:20240310T020000
TZOFFSETFROM:-0600
TZOFFSETTO:-0500
RDATE:20250309T020000
END:DAYLIGHT
END:VTIMEZONE
BEGIN:VEVENT
UID:26e6c9ad-7984-4ced-ae49-e8fdaea7e34e
DTSTAMP:20260425T203645Z
DESCRIPTION:HSI Pediatric First Aid | CPR AED Child/Infant/Adult (2020)\n\n
 CLASS NUMBER:	31662171\nCLASS TYPE:	Classroom Training\n\nLOCATION:	\n7200 S 
 84th St\nLaVista\, NE 68128\nDATE/TIME:	03/14/2024\, 6:00 PM - 8:00 PM\n3/1
 4 Zoom (6 to 8 PM) & In Person Hands On By Appt (takes about 30 mins)\n\nT
 o Register visit https://otis.osmanager4.com/#/openEnrollment?co=1&cid=412
 1482\n
DTSTART;TZID=America/Chicago:20240314T180000
DTEND;TZID=America/Chicago:20240314T200000
LOCATION:7200 S 84th St \, La Vista\, NE 68128 US
SUMMARY:HSI Pediatric First Aid | CPR AED Child/Infant/Adult (2020)
END:VEVENT
END:VCALENDAR
