BEGIN:VCALENDAR
VERSION:2.0
PRODID:-//midwestchildcare.org//NONSGML kigkonsult.se iCalcreator 2.30.10//
CALSCALE:GREGORIAN
METHOD:PUBLISH
UID:ef2b7099-d4d7-4f62-a71b-493b3a9ed4e1
X-WR-CALDESC:The Grizzly Bear Who Lost His Grrrrr! | An Interactive Prescho
 ol Class\n\nYou are invited to a Zoom meeting.\nWhen: Mar 7\, 2024 09:30 A
 M Central Time (US and Canada)\n\nRegister in advance for this meeting:\nh
 ttps://us02web.zoom.us/meeting/register/tZwucO6hrz0oE9fHcxWT4GRlAfdm1rgyrO
 La\n\nAfter registering\, you will receive a confirmation email containing
  information about joining the meeting.
X-WR-RELCALID:02349fca3c5c7b6e019537032a02301d
X-WR-TIMEZONE:America/Chicago
BEGIN:VTIMEZONE
TZID:America/Chicago
BEGIN:STANDARD
TZNAME:CST
DTSTART:20231105T020000
TZOFFSETFROM:-0500
TZOFFSETTO:-0600
RDATE:20241103T020000
END:STANDARD
BEGIN:DAYLIGHT
TZNAME:CDT
DTSTART:20230312T020000
TZOFFSETFROM:-0600
TZOFFSETTO:-0500
RDATE:20240310T020000
RDATE:20250309T020000
END:DAYLIGHT
END:VTIMEZONE
BEGIN:VEVENT
UID:bd9c8517-146f-4393-8b25-00da0b16f769
DTSTAMP:20260425T203344Z
DESCRIPTION:The Grizzly Bear Who Lost His Grrrrr! | An Interactive Preschoo
 l Class\n\nYou are invited to a Zoom meeting.\nWhen: Mar 7\, 2024 09:30 AM
  Central Time (US and Canada)\n\nRegister in advance for this meeting:\nht
 tps://us02web.zoom.us/meeting/register/tZwucO6hrz0oE9fHcxWT4GRlAfdm1rgyrOL
 a\n\nAfter registering\, you will receive a confirmation email containing 
 information about joining the meeting.
DTSTART;TZID=America/Chicago:20240307T093000
DTEND;TZID=America/Chicago:20240307T100000
LOCATION:https://us02web.zoom.us/meeting/register/tZwucO6hrz0oE9fHcxWT4GRlA
 fdm1rgyrOLa
SUMMARY:The Grizzly Bear Who Lost His Grrrrr! | An Interactive Preschool Cl
 ass
END:VEVENT
END:VCALENDAR
