BEGIN:VCALENDAR
VERSION:2.0
PRODID:-//midwestchildcare.org//NONSGML kigkonsult.se iCalcreator 2.30.10//
CALSCALE:GREGORIAN
METHOD:PUBLISH
UID:36174ae1-a67b-42ed-a9bf-b88cd6a57074
X-WR-CALDESC:Keep Kids Active When Cold Outside\n\nPlease register for Idea
 s to Keep Kids Active When Cold Outside on Feb 29\, 2024 1:00 PM CST at:\n
 \nhttps://attendee.gotowebinar.com/register/8006672696803410270\n\nAfter r
 egistering\, you will receive a confirmation email containing information 
 about joining the webinar.
X-WR-RELCALID:596f5fe315afc85360398caa17f5ebc4
X-WR-TIMEZONE:America/Chicago
BEGIN:VTIMEZONE
TZID:America/Chicago
BEGIN:STANDARD
TZNAME:CST
DTSTART:20231105T020000
TZOFFSETFROM:-0500
TZOFFSETTO:-0600
RDATE:20241103T020000
END:STANDARD
BEGIN:DAYLIGHT
TZNAME:CDT
DTSTART:20230312T020000
TZOFFSETFROM:-0600
TZOFFSETTO:-0500
RDATE:20240310T020000
RDATE:20250309T020000
END:DAYLIGHT
END:VTIMEZONE
BEGIN:VEVENT
UID:ce3c342f-a707-43a0-9b6f-d506ec323c3c
DTSTAMP:20260425T221651Z
DESCRIPTION:Keep Kids Active When Cold Outside\n\nPlease register for Ideas
  to Keep Kids Active When Cold Outside on Feb 29\, 2024 1:00 PM CST at:\n
 \nhttps://attendee.gotowebinar.com/register/8006672696803410270\n\nAfter r
 egistering\, you will receive a confirmation email containing information 
 about joining the webinar.
DTSTART;TZID=America/Chicago:20240229T130000
DTEND;TZID=America/Chicago:20240229T130000
LOCATION:https://attendee.gotowebinar.com/register/8006672696803410270
SUMMARY:Keep Kids Active When Cold Outside | Webinar
END:VEVENT
END:VCALENDAR
