BEGIN:VCALENDAR
VERSION:2.0
PRODID:-//midwestchildcare.org//NONSGML kigkonsult.se iCalcreator 2.30.10//
CALSCALE:GREGORIAN
METHOD:PUBLISH
UID:5ebcde35-98d7-4a2c-bd2a-0a13ba9e6d49
X-WR-CALDESC:Please register for  Sugar: Risk and Recommendations to Manage
  Children's Intake  on Feb 5\, 2024 7:00 PM CST at:\n\nhttps://attendee.go
 towebinar.com/register/1762131646447925845\n\nAfter registering\, you will
  receive a confirmation email containing information about joining the web
 inar.
X-WR-RELCALID:3ed0851362adea465f8aabe64ffaeef2
X-WR-TIMEZONE:America/Chicago
BEGIN:VTIMEZONE
TZID:America/Chicago
BEGIN:STANDARD
TZNAME:CST
DTSTART:20231105T020000
TZOFFSETFROM:-0500
TZOFFSETTO:-0600
RDATE:20241103T020000
END:STANDARD
BEGIN:DAYLIGHT
TZNAME:CDT
DTSTART:20230312T020000
TZOFFSETFROM:-0600
TZOFFSETTO:-0500
RDATE:20240310T020000
RDATE:20250309T020000
END:DAYLIGHT
END:VTIMEZONE
BEGIN:VEVENT
UID:4f72daa0-2925-48d1-aa9c-3e48dd9a3686
DTSTAMP:20260425T221948Z
DESCRIPTION:Please register for  Sugar: Risk and Recommendations to Manage 
 Children's Intake  on Feb 5\, 2024 7:00 PM CST at:\n\nhttps://attendee.got
 owebinar.com/register/1762131646447925845\n\nAfter registering\, you will 
 receive a confirmation email containing information about joining the webi
 nar.
DTSTART;TZID=America/Chicago:20240212T190000
DTEND;TZID=America/Chicago:20240212T200000
LOCATION:https://attendee.gotowebinar.com/register/1762131646447925845
SUMMARY:Sugar: Risk and Recommendations to Manage Children's Intake | Webin
 ar
END:VEVENT
END:VCALENDAR
