BEGIN:VCALENDAR
VERSION:2.0
PRODID:-//midwestchildcare.org//NONSGML kigkonsult.se iCalcreator 2.30.10//
CALSCALE:GREGORIAN
METHOD:PUBLISH
UID:818c9e4e-8af7-4509-8a84-cf81eb07baaa
X-WR-CALDESC:The Little Snowplow Wishes: An Interactive Preschool Class\n\n
 You are invited to a Zoom meeting.\nWhen: Feb 1\, 2024 10:00 AM Central Ti
 me (US and Canada)\n\nRegister in advance for this meeting:\nhttps://us02w
 eb.zoom.us/meeting/register/tZMtcemorT8pGdVWVwFXPewEPv6DKmeQ3zzQ\n\nAfter 
 registering\, you will receive a confirmation email containing information
  about joining the meeting.
X-WR-RELCALID:70a9db0f1209000aad07aebae3924017
X-WR-TIMEZONE:America/Chicago
BEGIN:VTIMEZONE
TZID:America/Chicago
BEGIN:STANDARD
TZNAME:CST
DTSTART:20231105T020000
TZOFFSETFROM:-0500
TZOFFSETTO:-0600
RDATE:20241103T020000
END:STANDARD
BEGIN:DAYLIGHT
TZNAME:CDT
DTSTART:20230312T020000
TZOFFSETFROM:-0600
TZOFFSETTO:-0500
RDATE:20240310T020000
RDATE:20250309T020000
END:DAYLIGHT
END:VTIMEZONE
BEGIN:VEVENT
UID:fb8cb477-ceb7-4c30-a18f-21cd2c2c74ff
DTSTAMP:20260425T221937Z
DESCRIPTION:The Little Snowplow Wishes: An Interactive Preschool Class\n\nY
 ou are invited to a Zoom meeting.\nWhen: Feb 1\, 2024 10:00 AM Central Tim
 e (US and Canada)\n\nRegister in advance for this meeting:\nhttps://us02we
 b.zoom.us/meeting/register/tZMtcemorT8pGdVWVwFXPewEPv6DKmeQ3zzQ\n\nAfter r
 egistering\, you will receive a confirmation email containing information 
 about joining the meeting.
DTSTART;TZID=America/Chicago:20240201T100000
DTEND;TZID=America/Chicago:20240201T103000
LOCATION:
SUMMARY:The Little Snowplow Wishes: An Interactive Preschool Class
END:VEVENT
END:VCALENDAR
