BEGIN:VCALENDAR
VERSION:2.0
PRODID:-//midwestchildcare.org//NONSGML kigkonsult.se iCalcreator 2.30.10//
CALSCALE:GREGORIAN
METHOD:PUBLISH
UID:e6ec8648-9960-4b4e-86d0-7642f6c1312e
X-WR-CALDESC:You are invited to a Zoom meeting.\nWhen: Jan 25\, 2024 10:00 
 AM Central Time (US and Canada)\n\nRegister in advance for this meeting:\n
 https://us02web.zoom.us/meeting/register/tZMrdOyrpjgvHdNvs7N853I8ufpwS0qHu
 jIK\n\nAfter registering\, you will receive a confirmation email containin
 g information about joining the meeting.
X-WR-RELCALID:3f92476996b2449c4028337e70bf2685
X-WR-TIMEZONE:America/Chicago
BEGIN:VTIMEZONE
TZID:America/Chicago
BEGIN:STANDARD
TZNAME:CST
DTSTART:20231105T020000
TZOFFSETFROM:-0500
TZOFFSETTO:-0600
RDATE:20241103T020000
END:STANDARD
BEGIN:DAYLIGHT
TZNAME:CDT
DTSTART:20230312T020000
TZOFFSETFROM:-0600
TZOFFSETTO:-0500
RDATE:20240310T020000
RDATE:20250309T020000
END:DAYLIGHT
END:VTIMEZONE
BEGIN:VEVENT
UID:5e2b5c42-9b63-4ec4-93e5-5492f46afa5b
DTSTAMP:20260426T000145Z
DESCRIPTION:You are invited to a Zoom meeting.\nWhen: Jan 25\, 2024 10:00 A
 M Central Time (US and Canada)\n\nRegister in advance for this meeting:\nh
 ttps://us02web.zoom.us/meeting/register/tZMrdOyrpjgvHdNvs7N853I8ufpwS0qHuj
 IK\n\nAfter registering\, you will receive a confirmation email containing
  information about joining the meeting.
DTSTART;TZID=America/Chicago:20240125T100000
DTEND;TZID=America/Chicago:20240125T103000
LOCATION:
SUMMARY:Sneezy the Snowman:An Interactive Preschool Class
END:VEVENT
END:VCALENDAR
