BEGIN:VCALENDAR
VERSION:2.0
PRODID:-//midwestchildcare.org//NONSGML kigkonsult.se iCalcreator 2.30.10//
CALSCALE:GREGORIAN
METHOD:PUBLISH
UID:6102a322-6799-4088-8c75-4930535f4e87
X-WR-CALDESC:You are invited to a Zoom meeting.\nWhen: Jan 25\, 2024 09:00 
 AM Central Time (US and Canada)\n\nRegister in advance for this meeting:\n
 https://us02web.zoom.us/meeting/register/tZwkcuyspzIjEtzb7Ph1Syaua6UNLT5zN
 Rml\n\nAfter registering\, you will receive a confirmation email containin
 g information about joining the meeting.
X-WR-RELCALID:6b4d52347ef8ab011a3474db69334a7f
X-WR-TIMEZONE:America/Chicago
BEGIN:VTIMEZONE
TZID:America/Chicago
BEGIN:STANDARD
TZNAME:CST
DTSTART:20231105T020000
TZOFFSETFROM:-0500
TZOFFSETTO:-0600
RDATE:20241103T020000
END:STANDARD
BEGIN:DAYLIGHT
TZNAME:CDT
DTSTART:20230312T020000
TZOFFSETFROM:-0600
TZOFFSETTO:-0500
RDATE:20240310T020000
RDATE:20250309T020000
END:DAYLIGHT
END:VTIMEZONE
BEGIN:VEVENT
UID:b2f0af0b-43aa-49ee-8ac4-b6b1cd6a6db9
DTSTAMP:20260426T000829Z
DESCRIPTION:You are invited to a Zoom meeting.\nWhen: Jan 25\, 2024 09:00 A
 M Central Time (US and Canada)\n\nRegister in advance for this meeting:\nh
 ttps://us02web.zoom.us/meeting/register/tZwkcuyspzIjEtzb7Ph1Syaua6UNLT5zNR
 ml\n\nAfter registering\, you will receive a confirmation email containing
  information about joining the meeting.
DTSTART;TZID=America/Chicago:20240125T090000
DTEND;TZID=America/Chicago:20240125T093000
LOCATION:
SUMMARY:Sneezy the Snowman:An Interactive Preschool Class
END:VEVENT
END:VCALENDAR
