BEGIN:VCALENDAR
VERSION:2.0
PRODID:-//midwestchildcare.org//NONSGML kigkonsult.se iCalcreator 2.30.10//
CALSCALE:GREGORIAN
METHOD:PUBLISH
UID:761c2203-abb8-40b4-a6de-8fd244308b61
X-WR-CALDESC:Not Yeti: An Interactive Preschool Class\n\nYou are invited to
  a Zoom meeting.\nWhen: Dec 28\, 2023 09:00 AM Central Time (US and Canada
 )\n\nRegister in advance for this meeting:\nhttps://us02web.zoom.us/meetin
 g/register/tZAodOyqrD0iE9yGIyuPYgahdTs0NtfLM2Ez\n\nAfter registering\, you
  will receive a confirmation email containing information about joining th
 e meeting.
X-WR-RELCALID:148bc080a03329c937aa5725127a5ac1
X-WR-TIMEZONE:America/Chicago
BEGIN:VTIMEZONE
TZID:America/Chicago
BEGIN:STANDARD
TZNAME:CST
DTSTART:20231105T020000
TZOFFSETFROM:-0500
TZOFFSETTO:-0600
RDATE:20241103T020000
END:STANDARD
BEGIN:DAYLIGHT
TZNAME:CDT
DTSTART:20230312T020000
TZOFFSETFROM:-0600
TZOFFSETTO:-0500
RDATE:20240310T020000
RDATE:20250309T020000
END:DAYLIGHT
END:VTIMEZONE
BEGIN:VEVENT
UID:d2ec15a6-479a-4a41-9d97-1ca18e8fd765
DTSTAMP:20260426T015203Z
DESCRIPTION:Not Yeti: An Interactive Preschool Class\n\nYou are invited to 
 a Zoom meeting.\nWhen: Dec 28\, 2023 09:00 AM Central Time (US and Canada)
 \n\nRegister in advance for this meeting:\nhttps://us02web.zoom.us/meeting
 /register/tZAodOyqrD0iE9yGIyuPYgahdTs0NtfLM2Ez\n\nAfter registering\, you 
 will receive a confirmation email containing information about joining the
  meeting.
DTSTART;TZID=America/Chicago:20231228T090000
DTEND;TZID=America/Chicago:20231228T093000
LOCATION:
SUMMARY:Not Yeti: An Interactive Preschool Class
END:VEVENT
END:VCALENDAR
