BEGIN:VCALENDAR
VERSION:2.0
PRODID:-//midwestchildcare.org//NONSGML kigkonsult.se iCalcreator 2.30.10//
CALSCALE:GREGORIAN
METHOD:PUBLISH
UID:54dc99ea-16c9-4feb-821a-1b1cd0cf1ae9
X-WR-CALDESC:HSI Pediatric First Aid | CPR AED Child/Infant/Adult (2020) RE
 NEWAL\n\nCLASS NUMBER:	31410152\nCLASS TYPE:	Classroom Training\nDESCRIPTION
 :	HSI Pediatric First Aid | CPR AED Child/Infant/Adult (2020)\nLOCATION:	\n7
 200 S 84th St\nLaVista\, NE 68128\nDATE/TIME:	12/21/2023\, 6:00 PM - 8:30 P
 M\n\n**Renewal Class** Must have unexpired or 30 days or less expired
X-WR-RELCALID:ba5ce5674984d2532699c635d9ac6dea
X-WR-TIMEZONE:America/Chicago
BEGIN:VTIMEZONE
TZID:America/Chicago
BEGIN:STANDARD
TZNAME:CST
DTSTART:20231105T020000
TZOFFSETFROM:-0500
TZOFFSETTO:-0600
RDATE:20241103T020000
END:STANDARD
BEGIN:DAYLIGHT
TZNAME:CDT
DTSTART:20230312T020000
TZOFFSETFROM:-0600
TZOFFSETTO:-0500
RDATE:20240310T020000
RDATE:20250309T020000
END:DAYLIGHT
END:VTIMEZONE
BEGIN:VEVENT
UID:b750ced7-2f8e-43b6-b797-3d0fce995db8
DTSTAMP:20260426T015635Z
DESCRIPTION:HSI Pediatric First Aid | CPR AED Child/Infant/Adult (2020) REN
 EWAL\n\nCLASS NUMBER:	31410152\nCLASS TYPE:	Classroom Training\nDESCRIPTION:
 	HSI Pediatric First Aid | CPR AED Child/Infant/Adult (2020)\nLOCATION:	\n72
 00 S 84th St\nLaVista\, NE 68128\nDATE/TIME:	12/21/2023\, 6:00 PM - 8:30 PM
 \n\n**Renewal Class** Must have unexpired or 30 days or less expired
DTSTART;TZID=America/Chicago:20231221T180000
DTEND;TZID=America/Chicago:20231221T203000
LOCATION:
SUMMARY:HSI Pediatric First Aid | CPR AED Child/Infant/Adult (2020) RENEWAL
END:VEVENT
END:VCALENDAR
