BEGIN:VCALENDAR
VERSION:2.0
PRODID:-//midwestchildcare.org//NONSGML kigkonsult.se iCalcreator 2.30.10//
CALSCALE:GREGORIAN
METHOD:PUBLISH
UID:8f594d39-c807-4257-a283-e7367bf38bde
X-WR-CALDESC:Lion Lessons: An Interactive Preschool Class\n\nYou are invite
 d to a Zoom meeting.\nWhen: Dec 7\, 2023 10:00 AM Central Time (US and Can
 ada)\n\nRegister in advance for this meeting:\nhttps://us02web.zoom.us/mee
 ting/register/tZ0vfuqgrzMqGNGq9lYfV1Y4Cx_TNUjBYBe3\n\nAfter registering\, 
 you will receive a confirmation email containing information about joining
  the meeting.
X-WR-RELCALID:4b143c36000c91b747279d02b0f220b4
X-WR-TIMEZONE:America/Chicago
BEGIN:VTIMEZONE
TZID:America/Chicago
BEGIN:STANDARD
TZNAME:CST
DTSTART:20231105T020000
TZOFFSETFROM:-0500
TZOFFSETTO:-0600
RDATE:20241103T020000
END:STANDARD
BEGIN:DAYLIGHT
TZNAME:CDT
DTSTART:20230312T020000
TZOFFSETFROM:-0600
TZOFFSETTO:-0500
RDATE:20240310T020000
RDATE:20250309T020000
END:DAYLIGHT
END:VTIMEZONE
BEGIN:VEVENT
UID:d39a8fbb-3edf-48e9-a1a0-1e19a6f778df
DTSTAMP:20260426T015133Z
DESCRIPTION:Lion Lessons: An Interactive Preschool Class\n\nYou are invited
  to a Zoom meeting.\nWhen: Dec 7\, 2023 10:00 AM Central Time (US and Cana
 da)\n\nRegister in advance for this meeting:\nhttps://us02web.zoom.us/meet
 ing/register/tZ0vfuqgrzMqGNGq9lYfV1Y4Cx_TNUjBYBe3\n\nAfter registering\, y
 ou will receive a confirmation email containing information about joining 
 the meeting.
DTSTART;TZID=America/Chicago:20231207T100000
DTEND;TZID=America/Chicago:20231207T103000
LOCATION:
SUMMARY:Lion Lessons: An Interactive Preschool Class
END:VEVENT
END:VCALENDAR
