BEGIN:VCALENDAR
VERSION:2.0
PRODID:-//midwestchildcare.org//NONSGML kigkonsult.se iCalcreator 2.30.10//
CALSCALE:GREGORIAN
METHOD:PUBLISH
UID:33c63da4-c297-4215-834e-7925853a1868
X-WR-CALDESC:Lion Lessons: An Interactive Preschool Class\n\nYou are invite
 d to a Zoom meeting.\nWhen: Dec 7\, 2023 09:00 AM Central Time (US and Can
 ada)\n\nRegister in advance for this meeting:\nhttps://us02web.zoom.us/mee
 ting/register/tZUude-prjgsHdNu316xLUbDmB6Bm7n1MjUY\n\nAfter registering\, 
 you will receive a confirmation email containing information about joining
  the meeting.
X-WR-RELCALID:1008c09b365cd919c5fde7b172733a36
X-WR-TIMEZONE:America/Chicago
BEGIN:VTIMEZONE
TZID:America/Chicago
BEGIN:STANDARD
TZNAME:CST
DTSTART:20231105T020000
TZOFFSETFROM:-0500
TZOFFSETTO:-0600
RDATE:20241103T020000
END:STANDARD
BEGIN:DAYLIGHT
TZNAME:CDT
DTSTART:20230312T020000
TZOFFSETFROM:-0600
TZOFFSETTO:-0500
RDATE:20240310T020000
RDATE:20250309T020000
END:DAYLIGHT
END:VTIMEZONE
BEGIN:VEVENT
UID:db08a620-ec09-40c2-80c7-d269be490607
DTSTAMP:20260426T015203Z
DESCRIPTION:Lion Lessons: An Interactive Preschool Class\n\nYou are invited
  to a Zoom meeting.\nWhen: Dec 7\, 2023 09:00 AM Central Time (US and Cana
 da)\n\nRegister in advance for this meeting:\nhttps://us02web.zoom.us/meet
 ing/register/tZUude-prjgsHdNu316xLUbDmB6Bm7n1MjUY\n\nAfter registering\, y
 ou will receive a confirmation email containing information about joining 
 the meeting.
DTSTART;TZID=America/Chicago:20231207T090000
DTEND;TZID=America/Chicago:20231207T093000
LOCATION:
SUMMARY:Lion Lessons: An Interactive Preschool Class
END:VEVENT
END:VCALENDAR
