BEGIN:VCALENDAR
VERSION:2.0
PRODID:-//midwestchildcare.org//NONSGML kigkonsult.se iCalcreator 2.30.10//
CALSCALE:GREGORIAN
METHOD:PUBLISH
UID:779a2f21-9a9a-4786-bdc7-e4ecad607ede
X-WR-CALDESC:HSI Pediatric First Aid | CPR AED Child/Infant/Adult (2020)\n
 \nCLASS NUMBER:	31410132\nCLASS TYPE:	Classroom Training\nDESCRIPTION:	HSI Pe
 diatric First Aid | CPR AED Child/Infant/Adult (2020)\nLOCATION:	\n7701 Pac
 ific St\nOmaha\, NE 68114\nDATE/TIME:	12/07/2023\, 6:00 PM - 10:00 PM
X-WR-RELCALID:0b419f522f6dc03c9a7de04662b67008
X-WR-TIMEZONE:America/Chicago
BEGIN:VTIMEZONE
TZID:America/Chicago
BEGIN:STANDARD
TZNAME:CST
DTSTART:20231105T020000
TZOFFSETFROM:-0500
TZOFFSETTO:-0600
RDATE:20241103T020000
END:STANDARD
BEGIN:DAYLIGHT
TZNAME:CDT
DTSTART:20230312T020000
TZOFFSETFROM:-0600
TZOFFSETTO:-0500
RDATE:20240310T020000
RDATE:20250309T020000
END:DAYLIGHT
END:VTIMEZONE
BEGIN:VEVENT
UID:42a5c026-5f2f-4e09-9a5e-7935dd5c6449
DTSTAMP:20260426T015548Z
DESCRIPTION:HSI Pediatric First Aid | CPR AED Child/Infant/Adult (2020)\n\n
 CLASS NUMBER:	31410132\nCLASS TYPE:	Classroom Training\nDESCRIPTION:	HSI Pedi
 atric First Aid | CPR AED Child/Infant/Adult (2020)\nLOCATION:	\n7701 Pacif
 ic St\nOmaha\, NE 68114\nDATE/TIME:	12/07/2023\, 6:00 PM - 10:00 PM
DTSTART;TZID=America/Chicago:20231207T180000
DTEND;TZID=America/Chicago:20231207T220000
LOCATION:
SUMMARY:HSI Pediatric First Aid | CPR AED Child/Infant/Adult (2020)
END:VEVENT
END:VCALENDAR
