BEGIN:VCALENDAR
VERSION:2.0
PRODID:-//midwestchildcare.org//NONSGML kigkonsult.se iCalcreator 2.30.10//
CALSCALE:GREGORIAN
METHOD:PUBLISH
UID:565b7ac7-9a05-4617-b2c1-789a0f09e987
X-WR-CALDESC:Healthy Winter Food and Activity Ideas\n\nPlease register for 
 Healthy Winter Food and Activity Ideas on Nov 30\, 2023 1:00 PM CST at:\n
 \nhttps://attendee.gotowebinar.com/register/2552395732558107480\n\nAfter r
 egistering\, you will receive a confirmation email containing information 
 about joining the webinar.
X-WR-RELCALID:d989dbb4201fad8337a4414ad5a0ab1c
X-WR-TIMEZONE:America/Chicago
BEGIN:VTIMEZONE
TZID:America/Chicago
BEGIN:STANDARD
TZNAME:CST
DTSTART:20231105T020000
TZOFFSETFROM:-0500
TZOFFSETTO:-0600
RDATE:20241103T020000
END:STANDARD
BEGIN:DAYLIGHT
TZNAME:CDT
DTSTART:20230312T020000
TZOFFSETFROM:-0600
TZOFFSETTO:-0500
RDATE:20240310T020000
RDATE:20250309T020000
END:DAYLIGHT
END:VTIMEZONE
BEGIN:VEVENT
UID:960b9f89-03af-4d6d-a339-0e84aec51087
DTSTAMP:20260426T033429Z
DESCRIPTION:Healthy Winter Food and Activity Ideas\n\nPlease register for H
 ealthy Winter Food and Activity Ideas on Nov 30\, 2023 1:00 PM CST at:\n\n
 https://attendee.gotowebinar.com/register/2552395732558107480\n\nAfter reg
 istering\, you will receive a confirmation email containing information ab
 out joining the webinar.
DTSTART;TZID=America/Chicago:20231130T130000
DTEND;TZID=America/Chicago:20231130T140000
LOCATION:
SUMMARY:Healthy Winter Food and Activity Ideas
END:VEVENT
END:VCALENDAR
