BEGIN:VCALENDAR
VERSION:2.0
PRODID:-//midwestchildcare.org//NONSGML kigkonsult.se iCalcreator 2.30.10//
CALSCALE:GREGORIAN
METHOD:PUBLISH
UID:74a8c40d-8247-42d4-80f5-86dd9c6a6d31
X-WR-CALDESC:Don't Wake the Dragon: An Interactive Preschool Class\n\nYou a
 re invited to a Zoom meeting.\nWhen: Nov 30\, 2023 10:00 AM Central Time (
 US and Canada)\n\nRegister in advance for this meeting:\nhttps://us02web.z
 oom.us/meeting/register/tZAscuyrqzIsHdPGkWV0zGDSkRBu9y7AXBFS\n\nAfter regi
 stering\, you will receive a confirmation email containing information abo
 ut joining the meeting.
X-WR-RELCALID:6d6c6b27940e7da5754fd5e7cd38427a
X-WR-TIMEZONE:America/Chicago
BEGIN:VTIMEZONE
TZID:America/Chicago
BEGIN:STANDARD
TZNAME:CST
DTSTART:20231105T020000
TZOFFSETFROM:-0500
TZOFFSETTO:-0600
RDATE:20241103T020000
END:STANDARD
BEGIN:DAYLIGHT
TZNAME:CDT
DTSTART:20230312T020000
TZOFFSETFROM:-0600
TZOFFSETTO:-0500
RDATE:20240310T020000
RDATE:20250309T020000
END:DAYLIGHT
END:VTIMEZONE
BEGIN:VEVENT
UID:9e57d3ff-e44f-476b-b67c-15092f5550e9
DTSTAMP:20260426T033418Z
DESCRIPTION:Don't Wake the Dragon: An Interactive Preschool Class\n\nYou ar
 e invited to a Zoom meeting.\nWhen: Nov 30\, 2023 10:00 AM Central Time (U
 S and Canada)\n\nRegister in advance for this meeting:\nhttps://us02web.zo
 om.us/meeting/register/tZAscuyrqzIsHdPGkWV0zGDSkRBu9y7AXBFS\n\nAfter regis
 tering\, you will receive a confirmation email containing information abou
 t joining the meeting.
DTSTART;TZID=America/Chicago:20231130T100000
DTEND;TZID=America/Chicago:20231130T103000
LOCATION:
SUMMARY:Don't Wake the Dragon: An Interactive Preschool Class
END:VEVENT
END:VCALENDAR
