BEGIN:VCALENDAR
VERSION:2.0
PRODID:-//midwestchildcare.org//NONSGML kigkonsult.se iCalcreator 2.30.10//
CALSCALE:GREGORIAN
METHOD:PUBLISH
UID:7f560523-7c07-4dc3-9812-bd9a747a739f
X-WR-CALDESC:Don't Wake the Dragon: An Interactive Preschool Class\n\nYou a
 re invited to a Zoom meeting.\nWhen: Nov 30\, 2023 09:30 AM Central Time (
 US and Canada)\n\nRegister in advance for this meeting:\nhttps://us02web.z
 oom.us/meeting/register/tZ0sde6hpzopGtziZfNAQCbI_REApAg8f0Xy\n\nAfter regi
 stering\, you will receive a confirmation email containing information abo
 ut joining the meeting.\n\n
X-WR-RELCALID:06f9f61fe19081b55d9f474f081d034c
X-WR-TIMEZONE:America/Chicago
BEGIN:VTIMEZONE
TZID:America/Chicago
BEGIN:STANDARD
TZNAME:CST
DTSTART:20231105T020000
TZOFFSETFROM:-0500
TZOFFSETTO:-0600
RDATE:20241103T020000
END:STANDARD
BEGIN:DAYLIGHT
TZNAME:CDT
DTSTART:20230312T020000
TZOFFSETFROM:-0600
TZOFFSETTO:-0500
RDATE:20240310T020000
RDATE:20250309T020000
END:DAYLIGHT
END:VTIMEZONE
BEGIN:VEVENT
UID:9640259b-2bfb-46ee-9ecd-497af2a0dd28
DTSTAMP:20260426T033418Z
DESCRIPTION:Don't Wake the Dragon: An Interactive Preschool Class\n\nYou ar
 e invited to a Zoom meeting.\nWhen: Nov 30\, 2023 09:30 AM Central Time (U
 S and Canada)\n\nRegister in advance for this meeting:\nhttps://us02web.zo
 om.us/meeting/register/tZ0sde6hpzopGtziZfNAQCbI_REApAg8f0Xy\n\nAfter regis
 tering\, you will receive a confirmation email containing information abou
 t joining the meeting.\n\n
DTSTART;TZID=America/Chicago:20231130T093000
DTEND;TZID=America/Chicago:20231130T100000
LOCATION:
SUMMARY:Don't Wake the Dragon: An Interactive Preschool Class
END:VEVENT
END:VCALENDAR
