BEGIN:VCALENDAR
VERSION:2.0
PRODID:-//midwestchildcare.org//NONSGML kigkonsult.se iCalcreator 2.30.10//
CALSCALE:GREGORIAN
METHOD:PUBLISH
UID:d114c94a-3bdb-4bae-977f-db2e8b612428
X-WR-CALDESC:Don't Wake the Dragon: An Interactive Preschool Class\n\nYou a
 re invited to a Zoom meeting.\nWhen: Nov 30\, 2023 09:00 AM Central Time (
 US and Canada)\n\nRegister in advance for this meeting:\nhttps://us02web.z
 oom.us/meeting/register/tZYufuGhqTMiGdcTIX98-12Ns3oxcny7OkuA\n\nAfter regi
 stering\, you will receive a confirmation email containing information abo
 ut joining the meeting.
X-WR-RELCALID:2017f68a260952a6b9f85ae030f5128d
X-WR-TIMEZONE:America/Chicago
BEGIN:VTIMEZONE
TZID:America/Chicago
BEGIN:STANDARD
TZNAME:CST
DTSTART:20231105T020000
TZOFFSETFROM:-0500
TZOFFSETTO:-0600
RDATE:20241103T020000
END:STANDARD
BEGIN:DAYLIGHT
TZNAME:CDT
DTSTART:20230312T020000
TZOFFSETFROM:-0600
TZOFFSETTO:-0500
RDATE:20240310T020000
RDATE:20250309T020000
END:DAYLIGHT
END:VTIMEZONE
BEGIN:VEVENT
UID:820659ed-e38b-49c6-80fb-3e65b6f2193b
DTSTAMP:20260426T033348Z
DESCRIPTION:Don't Wake the Dragon: An Interactive Preschool Class\n\nYou ar
 e invited to a Zoom meeting.\nWhen: Nov 30\, 2023 09:00 AM Central Time (U
 S and Canada)\n\nRegister in advance for this meeting:\nhttps://us02web.zo
 om.us/meeting/register/tZYufuGhqTMiGdcTIX98-12Ns3oxcny7OkuA\n\nAfter regis
 tering\, you will receive a confirmation email containing information abou
 t joining the meeting.
DTSTART;TZID=America/Chicago:20231130T090000
DTEND;TZID=America/Chicago:20231130T093000
LOCATION:
SUMMARY:Don't Wake the Dragon: An Interactive Preschool Class
END:VEVENT
END:VCALENDAR
