BEGIN:VCALENDAR
VERSION:2.0
PRODID:-//midwestchildcare.org//NONSGML kigkonsult.se iCalcreator 2.30.10//
CALSCALE:GREGORIAN
METHOD:PUBLISH
UID:e8cdaabc-8d37-4ba5-8879-54337fff6103
X-WR-CALDESC:Infant Formula: Storage\, Best Practices\, and Introducing a C
 up\n\nPlease register for Infant Formula: Storage\, Best Practices\, and I
 ntroducing a Cup on Nov 13\, 2023 1:00 PM CST at:\n\nhttps://attendee.goto
 webinar.com/register/3540743436231058777\n\nAfter registering\, you will r
 eceive a confirmation email containing information about joining the webin
 ar.
X-WR-RELCALID:55c7647eb78af4f8667d30ef3fcfa12f
X-WR-TIMEZONE:America/Chicago
BEGIN:VTIMEZONE
TZID:America/Chicago
BEGIN:STANDARD
TZNAME:CST
DTSTART:20231105T020000
TZOFFSETFROM:-0500
TZOFFSETTO:-0600
RDATE:20241103T020000
END:STANDARD
BEGIN:DAYLIGHT
TZNAME:CDT
DTSTART:20230312T020000
TZOFFSETFROM:-0600
TZOFFSETTO:-0500
RDATE:20240310T020000
RDATE:20250309T020000
END:DAYLIGHT
END:VTIMEZONE
BEGIN:VEVENT
UID:3205a189-fe1b-4640-816f-6203bcbdae36
DTSTAMP:20260426T033028Z
DESCRIPTION:Infant Formula: Storage\, Best Practices\, and Introducing a Cu
 p\n\nPlease register for Infant Formula: Storage\, Best Practices\, and In
 troducing a Cup on Nov 13\, 2023 1:00 PM CST at:\n\nhttps://attendee.gotow
 ebinar.com/register/3540743436231058777\n\nAfter registering\, you will re
 ceive a confirmation email containing information about joining the webina
 r.
DTSTART;TZID=America/Chicago:20231113T130000
DTEND;TZID=America/Chicago:20231113T140000
LOCATION:
SUMMARY:Infant Formula: Storage\, Best Practices\, and Introducing a Cup
END:VEVENT
END:VCALENDAR
