BEGIN:VCALENDAR
VERSION:2.0
PRODID:-//midwestchildcare.org//NONSGML kigkonsult.se iCalcreator 2.30.10//
CALSCALE:GREGORIAN
METHOD:PUBLISH
UID:b5050ebd-944c-4f16-98ab-89ab5451a4ed
X-WR-CALDESC:Squirrels Leap\, Squirrels Sleep: An Interactive Preschool Cla
 ss\n\nYou are invited to a Zoom meeting.\nWhen: Nov 9\, 2023 09:30 AM Cent
 ral Time (US and Canada)\n\nRegister in advance for this meeting:\nhttps:/
 /us02web.zoom.us/meeting/register/tZYlcOGhrTorGtYf0J0szOzRP2HE-N5cRhGU\n\n
 After registering\, you will receive a confirmation email containing infor
 mation about joining the meeting.\n\n
X-WR-RELCALID:712057bf280655471f241f7ade526873
X-WR-TIMEZONE:America/Chicago
BEGIN:VTIMEZONE
TZID:America/Chicago
BEGIN:STANDARD
TZNAME:CST
DTSTART:20231105T020000
TZOFFSETFROM:-0500
TZOFFSETTO:-0600
RDATE:20241103T020000
END:STANDARD
BEGIN:DAYLIGHT
TZNAME:CDT
DTSTART:20230312T020000
TZOFFSETFROM:-0600
TZOFFSETTO:-0500
RDATE:20240310T020000
RDATE:20250309T020000
END:DAYLIGHT
END:VTIMEZONE
BEGIN:VEVENT
UID:eca6c83e-0e34-4024-95c3-a5cb77811f7c
DTSTAMP:20260426T033235Z
DESCRIPTION:Squirrels Leap\, Squirrels Sleep: An Interactive Preschool Clas
 s\n\nYou are invited to a Zoom meeting.\nWhen: Nov 9\, 2023 09:30 AM Centr
 al Time (US and Canada)\n\nRegister in advance for this meeting:\nhttps://
 us02web.zoom.us/meeting/register/tZYlcOGhrTorGtYf0J0szOzRP2HE-N5cRhGU\n\nA
 fter registering\, you will receive a confirmation email containing inform
 ation about joining the meeting.\n\n
DTSTART;TZID=America/Chicago:20231109T093000
DTEND;TZID=America/Chicago:20231109T100000
LOCATION:
SUMMARY:Squirrels Leap\, Squirrels Sleep: An Interactive Preschool Classs
END:VEVENT
END:VCALENDAR
