BEGIN:VCALENDAR
VERSION:2.0
PRODID:-//midwestchildcare.org//NONSGML kigkonsult.se iCalcreator 2.30.10//
CALSCALE:GREGORIAN
METHOD:PUBLISH
UID:967acf51-7ad8-4be8-886c-0cf42be93bcf
X-WR-CALDESC:
X-WR-RELCALID:8bdb7d53e10d5d210ccde9f953e875c2
X-WR-TIMEZONE:America/Chicago
BEGIN:VTIMEZONE
TZID:America/Chicago
BEGIN:STANDARD
TZNAME:CST
DTSTART:20221106T020000
TZOFFSETFROM:-0500
TZOFFSETTO:-0600
RDATE:20231105T020000
RDATE:20241103T020000
END:STANDARD
BEGIN:DAYLIGHT
TZNAME:CDT
DTSTART:20230312T020000
TZOFFSETFROM:-0600
TZOFFSETTO:-0500
RDATE:20240310T020000
RDATE:20250309T020000
END:DAYLIGHT
END:VTIMEZONE
BEGIN:VEVENT
UID:d1033ce2-efd6-40a3-b64f-98d63e5974d4
DTSTAMP:20260426T033348Z
DESCRIPTION:
DTSTART;TZID=America/Chicago:20231103T000000
DTEND;TZID=America/Chicago:20231103T235900
LOCATION:
SUMMARY:CACFP Claim is due!
END:VEVENT
END:VCALENDAR
