BEGIN:VCALENDAR
VERSION:2.0
PRODID:-//midwestchildcare.org//NONSGML kigkonsult.se iCalcreator 2.30.10//
CALSCALE:GREGORIAN
METHOD:PUBLISH
UID:e1626e63-501f-400a-a3c1-2892c97fdf8b
X-WR-CALDESC:The Leaf Thief: An Interactive Preschool Class\n\nYou are invi
 ted to a Zoom meeting.When: Nov 2\, 2023 09:30 AM Central Time (US and Can
 ada)\n\nRegister in advance for this meeting:\nhttps://us02web.zoom.us/mee
 ting/register/tZctfu2gqjsvGN0Yvd1yuf9Dd8D3UKxUF3dG\n\nAfter registering\, 
 you will receive a confirmation email containing information about joining
  the meeting.
X-WR-RELCALID:e3c10a2c1027df0d69d74f14a979ba8e
X-WR-TIMEZONE:America/Chicago
BEGIN:VTIMEZONE
TZID:America/Chicago
BEGIN:STANDARD
TZNAME:CST
DTSTART:20221106T020000
TZOFFSETFROM:-0500
TZOFFSETTO:-0600
RDATE:20231105T020000
RDATE:20241103T020000
END:STANDARD
BEGIN:DAYLIGHT
TZNAME:CDT
DTSTART:20230312T020000
TZOFFSETFROM:-0600
TZOFFSETTO:-0500
RDATE:20240310T020000
RDATE:20250309T020000
END:DAYLIGHT
END:VTIMEZONE
BEGIN:VEVENT
UID:3fd964d7-002f-4888-bc93-9eb3aec62c0f
DTSTAMP:20260426T033102Z
DESCRIPTION:The Leaf Thief: An Interactive Preschool Class\n\nYou are invit
 ed to a Zoom meeting.When: Nov 2\, 2023 09:30 AM Central Time (US and Cana
 da)\n\nRegister in advance for this meeting:\nhttps://us02web.zoom.us/meet
 ing/register/tZctfu2gqjsvGN0Yvd1yuf9Dd8D3UKxUF3dG\n\nAfter registering\, y
 ou will receive a confirmation email containing information about joining 
 the meeting.
DTSTART;TZID=America/Chicago:20231102T093000
DTEND;TZID=America/Chicago:20231102T100000
LOCATION:
SUMMARY:The Leaf Thief: An Interactive Preschool Class
END:VEVENT
END:VCALENDAR
