BEGIN:VCALENDAR
VERSION:2.0
PRODID:-//midwestchildcare.org//NONSGML kigkonsult.se iCalcreator 2.30.10//
CALSCALE:GREGORIAN
METHOD:PUBLISH
UID:029c60ec-8932-4c66-8e2a-5530bae08768
X-WR-CALDESC:EMS Safety Childcare Provider \n\nTop Notch Training - Renewal
  Class - September\n\nClass Number: 29251786\nClass Start Date:09/22/2022 
 \nClass Time: 6:00 PM - 8:30 PM\n\nLocation:\n4505 S 96th St \nOmaha\, NE 
 68127\n\n(**Renewal Class Only** Must have proof of Current Certification)
 \n\nSelf Paced Program: Can't make a class or prefer to go through the mat
 erial at your own pace? We can register you for a Self Paced Program follo
 wed by a Hands On Portion (takes about 20 mins for Hands On). Inquire via 
 email to: mattsafetytraining@gmail.com\n\nGroup Class: Do you have 8+ peop
 le needing certification/recertification and would like to organize a clas
 s at your center/in-home or at our training facility? Inquire via email to
 : mattsafetytraining@gmail.com\n\n***We are constantly adding new classes.
  Check out our Website under the Training Calendar for classes and registr
 ation***\nwww.topnotchtrainingcourses.com
X-WR-RELCALID:cf065e509d4a0f1d4666cabbc3b131b4
X-WR-TIMEZONE:America/Chicago
BEGIN:VTIMEZONE
TZID:America/Chicago
BEGIN:STANDARD
TZNAME:CST
DTSTART:20211107T020000
TZOFFSETFROM:-0500
TZOFFSETTO:-0600
RDATE:20221106T020000
RDATE:20231105T020000
END:STANDARD
BEGIN:DAYLIGHT
TZNAME:CDT
DTSTART:20220313T020000
TZOFFSETFROM:-0600
TZOFFSETTO:-0500
RDATE:20230312T020000
RDATE:20240310T020000
END:DAYLIGHT
END:VTIMEZONE
BEGIN:VEVENT
UID:e20a967d-44c6-413a-b749-4ab0b1775a3e
DTSTAMP:20260425T195111Z
DESCRIPTION:EMS Safety Childcare Provider \n\nTop Notch Training - Renewal 
 Class - September\n\nClass Number: 29251786\nClass Start Date:09/22/2022 
 \nClass Time: 6:00 PM - 8:30 PM\n\nLocation:\n4505 S 96th St \nOmaha\, NE 
 68127\n\n(**Renewal Class Only** Must have proof of Current Certification)
 \n\nSelf Paced Program: Can't make a class or prefer to go through the mat
 erial at your own pace? We can register you for a Self Paced Program follo
 wed by a Hands On Portion (takes about 20 mins for Hands On). Inquire via 
 email to: mattsafetytraining@gmail.com\n\nGroup Class: Do you have 8+ peop
 le needing certification/recertification and would like to organize a clas
 s at your center/in-home or at our training facility? Inquire via email to
 : mattsafetytraining@gmail.com\n\n***We are constantly adding new classes.
  Check out our Website under the Training Calendar for classes and registr
 ation***\nwww.topnotchtrainingcourses.com
DTSTART;TZID=America/Chicago:20220922T180000
DTEND;TZID=America/Chicago:20220922T203000
LOCATION:4505 S 96th St\, Omaha\, NE 68127 US
SUMMARY:Renewal: EMS Safety Childcare Provider
END:VEVENT
END:VCALENDAR
