BEGIN:VCALENDAR
VERSION:2.0
PRODID:-//midwestchildcare.org//NONSGML kigkonsult.se iCalcreator 2.30.10//
CALSCALE:GREGORIAN
METHOD:PUBLISH
UID:29a29d29-47af-4459-8794-6c692e9d481f
X-WR-CALDESC:EMS Safety Childcare Provider\n\nCPR/AED & First Aid Classes\n
 \nClass Start Date:03/10/2022 \nClass Time: 6:00 PM - 10:00 PM\nLocation:	
 \n4505 S 96th St\nOmaha\, NE  68127
X-WR-RELCALID:cd1aa57f32e36c76837d00f318267f33
X-WR-TIMEZONE:America/Chicago
BEGIN:VTIMEZONE
TZID:America/Chicago
BEGIN:STANDARD
TZNAME:CST
DTSTART:20211107T020000
TZOFFSETFROM:-0500
TZOFFSETTO:-0600
RDATE:20221106T020000
END:STANDARD
BEGIN:DAYLIGHT
TZNAME:CDT
DTSTART:20210314T020000
TZOFFSETFROM:-0600
TZOFFSETTO:-0500
RDATE:20220313T020000
RDATE:20230312T020000
END:DAYLIGHT
END:VTIMEZONE
BEGIN:VEVENT
UID:cfd4173d-3ece-45d0-b7cf-372aacaf68f2
DTSTAMP:20260426T003548Z
DESCRIPTION:EMS Safety Childcare Provider\n\nCPR/AED & First Aid Classes\n
 \nClass Start Date:03/10/2022 \nClass Time: 6:00 PM - 10:00 PM\nLocation:	
 \n4505 S 96th St\nOmaha\, NE  68127
DTSTART;TZID=America/Chicago:20220310T180000
DTEND;TZID=America/Chicago:20220310T220000
LOCATION:
SUMMARY:CPR/AED & First Aid Classes via Zoom
END:VEVENT
END:VCALENDAR
