BEGIN:VCALENDAR
VERSION:2.0
PRODID:-//midwestchildcare.org//NONSGML kigkonsult.se iCalcreator 2.30.10//
CALSCALE:GREGORIAN
METHOD:PUBLISH
UID:845ec2c4-3f4a-409f-8011-6f049dacf8af
X-WR-CALDESC:Move Your Mood | Webinar | Interactive Preschool Class Four\n
 \nEarn 0.4 licensing hours. The classes are designed and led by a licensed
  K-6 teacher and school librarian and Register Dietitian. A detailed lesso
 n plan is provided to participants to use during the class and as a resour
 ce for future use. \n\nYou are invited to a Zoom meeting.\nWhen: Jun 3\, 2
 021 09:30 AM Central Time (US and Canada) \n\nRegister in advance for this
  meeting:\nhttps://us02web.zoom.us/meeting/register/tZIufuCqrToqE9bMgCnON7
 XrSSk7km_sMpw2 \n\nAfter registering\, you will receive a confirmation ema
 il containing information about joining the meeting.
X-WR-RELCALID:b5c744174a11a06dd4c9b5dd3af06112
X-WR-TIMEZONE:America/Chicago
BEGIN:VTIMEZONE
TZID:America/Chicago
BEGIN:STANDARD
TZNAME:CST
DTSTART:20201101T020000
TZOFFSETFROM:-0500
TZOFFSETTO:-0600
RDATE:20211107T020000
RDATE:20221106T020000
END:STANDARD
BEGIN:DAYLIGHT
TZNAME:CDT
DTSTART:20210314T020000
TZOFFSETFROM:-0600
TZOFFSETTO:-0500
RDATE:20220313T020000
END:DAYLIGHT
END:VTIMEZONE
BEGIN:VEVENT
UID:9dff1c0a-0a00-4026-82cc-78abd5a7a758
DTSTAMP:20260423T030337Z
DESCRIPTION:Move Your Mood | Webinar | Interactive Preschool Class Four\n\n
 Earn 0.4 licensing hours. The classes are designed and led by a licensed K
 -6 teacher and school librarian and Register Dietitian. A detailed lesson 
 plan is provided to participants to use during the class and as a resource
  for future use. \n\nYou are invited to a Zoom meeting.\nWhen: Jun 3\, 202
 1 09:30 AM Central Time (US and Canada) \n\nRegister in advance for this m
 eeting:\nhttps://us02web.zoom.us/meeting/register/tZIufuCqrToqE9bMgCnON7Xr
 SSk7km_sMpw2 \n\nAfter registering\, you will receive a confirmation email
  containing information about joining the meeting.
DTSTART;TZID=America/Chicago:20210603T093000
DTEND;TZID=America/Chicago:20210603T100000
LOCATION:
SUMMARY:Move Your Mood | Webinar | Interactive Preschool Class Four
END:VEVENT
END:VCALENDAR
