BEGIN:VCALENDAR
VERSION:2.0
PRODID:-//midwestchildcare.org//NONSGML kigkonsult.se iCalcreator 2.30.10//
CALSCALE:GREGORIAN
METHOD:PUBLISH
UID:03c4ad2b-84d5-4093-8852-e3397384552c
X-WR-CALDESC:Webinar: Live Cooking Demonstration on How to make the most ou
 t of your Instant Pot \n\nYou are invited sign up for a Live Zoom Cooking 
 Demonstration on How to make the most out of your Instant Pot \nWhen: May 
 2\, 2021 06:00 PM Central Time (US and Canada) \n\nRegister in advance for
  this meeting:\nhttps://us02web.zoom.us/meeting/register/tZEvdeGorzgtGtVbc
 hDnsyr6DHNTEm-LfEZP \n\nAfter registering\, you will receive a confirmatio
 n email containing information about joining the meeting.
X-WR-RELCALID:4cb4c2a8932c92a4fb10aa7f48092183
X-WR-TIMEZONE:America/Chicago
BEGIN:VTIMEZONE
TZID:America/Chicago
BEGIN:STANDARD
TZNAME:CST
DTSTART:20201101T020000
TZOFFSETFROM:-0500
TZOFFSETTO:-0600
RDATE:20211107T020000
END:STANDARD
BEGIN:DAYLIGHT
TZNAME:CDT
DTSTART:20210314T020000
TZOFFSETFROM:-0600
TZOFFSETTO:-0500
RDATE:20220313T020000
END:DAYLIGHT
END:VTIMEZONE
BEGIN:VEVENT
UID:d48356a0-4063-4478-9149-6f7cf1e8baa9
DTSTAMP:20260422T061745Z
DESCRIPTION:Webinar: Live Cooking Demonstration on How to make the most out
  of your Instant Pot \n\nYou are invited sign up for a Live Zoom Cooking D
 emonstration on How to make the most out of your Instant Pot \nWhen: May 2
 \, 2021 06:00 PM Central Time (US and Canada) \n\nRegister in advance for 
 this meeting:\nhttps://us02web.zoom.us/meeting/register/tZEvdeGorzgtGtVbch
 Dnsyr6DHNTEm-LfEZP \n\nAfter registering\, you will receive a confirmation
  email containing information about joining the meeting.
DTSTART;TZID=America/Chicago:20210502T180000
DTEND;TZID=America/Chicago:20210502T190000
LOCATION:
SUMMARY:Webinar: Live Cooking Demonstration on How to make the most out of 
 your Instant Pot
END:VEVENT
END:VCALENDAR
