BEGIN:VCALENDAR
VERSION:2.0
PRODID:-//midwestchildcare.org//NONSGML kigkonsult.se iCalcreator 2.30.10//
CALSCALE:GREGORIAN
METHOD:PUBLISH
UID:2d753417-ddf4-4ade-a7d3-7bf3b9ab6899
X-WR-CALDESC:Minority Small Business Summit\n\nSmall business owners and st
 art up entrepreneurs\, this is your opportunity to strategize\, recover an
 d grow. Speakers will present on vital local business topics\n\nFEATURING
 \nAshlei Spivey is a successful entrepreneur\, philanthropist\, and activi
 st\, Spivey is founder of I Be Black Girl (IBBG) and a co-owner of Best Bu
 rger.\n\nAPRIL 7\, 2021 | 8 A.M. – 4 P.M. | VIRTUAL | FREE\nThe first 50 r
 egistered attendees will receive a SPECIAL DOOR PRIZE and\nall attendees w
 ill receive initial EXCLUSIVE ACCESS to a video series Checking Up on Your
  Small Business.\nQuestions: tonyschultz@unomaha.edu
X-WR-RELCALID:8aaaaff72bad71778042c5bc53f15ecb
X-WR-TIMEZONE:America/Chicago
BEGIN:VTIMEZONE
TZID:America/Chicago
BEGIN:STANDARD
TZNAME:CST
DTSTART:20201101T020000
TZOFFSETFROM:-0500
TZOFFSETTO:-0600
RDATE:20211107T020000
END:STANDARD
BEGIN:DAYLIGHT
TZNAME:CDT
DTSTART:20210314T020000
TZOFFSETFROM:-0600
TZOFFSETTO:-0500
RDATE:20220313T020000
END:DAYLIGHT
END:VTIMEZONE
BEGIN:VEVENT
UID:86fb5272-151f-4594-b21b-9a790fe4b300
DTSTAMP:20260420T050727Z
DESCRIPTION:Minority Small Business Summit\n\nSmall business owners and sta
 rt up entrepreneurs\, this is your opportunity to strategize\, recover and
  grow. Speakers will present on vital local business topics\n\nFEATURING\n
 Ashlei Spivey is a successful entrepreneur\, philanthropist\, and activist
 \, Spivey is founder of I Be Black Girl (IBBG) and a co-owner of Best Burg
 er.\n\nAPRIL 7\, 2021 | 8 A.M. – 4 P.M. | VIRTUAL | FREE\nThe first 50 reg
 istered attendees will receive a SPECIAL DOOR PRIZE and\nall attendees wil
 l receive initial EXCLUSIVE ACCESS to a video series Checking Up on Your S
 mall Business.\nQuestions: tonyschultz@unomaha.edu
DTSTART;TZID=America/Chicago:20210407T080000
DTEND;TZID=America/Chicago:20210407T160000
LOCATION:Virtual Event
SUMMARY:Minority Small Business Summit: Hosted by NBDC
END:VEVENT
END:VCALENDAR
