BEGIN:VCALENDAR
VERSION:2.0
PRODID:-//midwestchildcare.org//NONSGML kigkonsult.se iCalcreator 2.30.10//
CALSCALE:GREGORIAN
METHOD:PUBLISH
UID:e490ec3b-70cb-4713-a1a7-2c44840bcae2
X-WR-CALDESC:Webinar: Common Nutrient Deficiencies in Children\n\nPlease re
 gister for Common Nutrient Deficiencies in Children on Mar 8\, 2021 7:00 P
 M CST at:\nhttps://attendee.gotowebinar.com/register/1974545175193106956\n
 \nAfter registering\, you will receive a confirmation email containing inf
 ormation about joining the webinar.\n
X-WR-RELCALID:8e171ccf9510831977255a00015f6185
X-WR-TIMEZONE:America/Chicago
BEGIN:VTIMEZONE
TZID:America/Chicago
BEGIN:STANDARD
TZNAME:CST
DTSTART:20201101T020000
TZOFFSETFROM:-0500
TZOFFSETTO:-0600
RDATE:20211107T020000
END:STANDARD
BEGIN:DAYLIGHT
TZNAME:CDT
DTSTART:20200308T020000
TZOFFSETFROM:-0600
TZOFFSETTO:-0500
RDATE:20210314T020000
RDATE:20220313T020000
END:DAYLIGHT
END:VTIMEZONE
BEGIN:VEVENT
UID:07da1dd6-15f9-4919-b274-599fd83aace7
DTSTAMP:20260421T214651Z
DESCRIPTION:Webinar: Common Nutrient Deficiencies in Children\n\nPlease reg
 ister for Common Nutrient Deficiencies in Children on Mar 8\, 2021 7:00 PM
  CST at:\nhttps://attendee.gotowebinar.com/register/1974545175193106956\n
 \nAfter registering\, you will receive a confirmation email containing inf
 ormation about joining the webinar.\n
DTSTART;TZID=America/Chicago:20210308T190000
DTEND;TZID=America/Chicago:20210308T200000
LOCATION:https://attendee.gotowebinar.com/register/1974545175193106956
SUMMARY:Webinar: Common Nutrient Deficiencies in Children
END:VEVENT
END:VCALENDAR
