BEGIN:VCALENDAR
VERSION:2.0
PRODID:-//midwestchildcare.org//NONSGML kigkonsult.se iCalcreator 2.30.10//
CALSCALE:GREGORIAN
METHOD:PUBLISH
UID:ad369427-bffb-4bf0-8e56-fbd985cef35d
X-WR-CALDESC:The Nebraska Department of Education Nutrition Services and Wh
 ispering Roots are once again teaming up to provide free online supplement
 al webinar for CACFP participants.  Webinars will be hosted by a Registere
 d Dietitian\, a chef\, and Nebraska Team Nutrition. Webinars will be inter
 active and include tips on menu planning\, cooking demos\, opportunities t
 o ask questions\, and more.  All webinars are free and will be held from 1
 -2 pm CST on zoom. Registration for each participating individual is requi
 red.  To register for any or all webinars please follow the link below. On
 ce registration is complete\, you will receive information on how to acces
 s the webinar. Certificates for in-service hours will be provided followin
 g the completion of each webinar. Please share the attached flyer with any
 one you think could benefit from this webinar series.
X-WR-RELCALID:0c871ea4d372eb4e20feed2ed36677f8
X-WR-TIMEZONE:America/Chicago
BEGIN:VTIMEZONE
TZID:America/Chicago
BEGIN:STANDARD
TZNAME:CST
DTSTART:20201101T020000
TZOFFSETFROM:-0500
TZOFFSETTO:-0600
RDATE:20211107T020000
END:STANDARD
BEGIN:DAYLIGHT
TZNAME:CDT
DTSTART:20200308T020000
TZOFFSETFROM:-0600
TZOFFSETTO:-0500
RDATE:20210314T020000
RDATE:20220313T020000
END:DAYLIGHT
END:VTIMEZONE
BEGIN:VEVENT
UID:a9ac5117-7af1-4807-b949-a8e73776302e
DTSTAMP:20260420T103722Z
DESCRIPTION:The Nebraska Department of Education Nutrition Services and Whi
 spering Roots are once again teaming up to provide free online supplementa
 l webinar for CACFP participants.  Webinars will be hosted by a Registered
  Dietitian\, a chef\, and Nebraska Team Nutrition. Webinars will be intera
 ctive and include tips on menu planning\, cooking demos\, opportunities to
  ask questions\, and more.  All webinars are free and will be held from 1-
 2 pm CST on zoom. Registration for each participating individual is requir
 ed.  To register for any or all webinars please follow the link below. Onc
 e registration is complete\, you will receive information on how to access
  the webinar. Certificates for in-service hours will be provided following
  the completion of each webinar. Please share the attached flyer with anyo
 ne you think could benefit from this webinar series.
DTSTART;TZID=America/Chicago:20210304T180000
DTEND;TZID=America/Chicago:20210304T190000
LOCATION:
SUMMARY:Serie de seminarios web de invierno de CACFP – Seguridad alimentari
 a (almacenamiento seguro\, conservación\, etc.)
END:VEVENT
END:VCALENDAR
