BEGIN:VCALENDAR
VERSION:2.0
PRODID:-//midwestchildcare.org//NONSGML kigkonsult.se iCalcreator 2.30.10//
CALSCALE:GREGORIAN
METHOD:PUBLISH
UID:6f7edeaf-efb7-47cf-99ef-013a4ce08945
X-WR-CALDESC:CPR\, AED AND FIRST AID FOR CHILDCARE PROVIDERS\n\nThe CPR\, A
 ED and First Aid for Childcare Providers course offered by EMS Safety Serv
 ices\, Inc. is OSHA compliant and is approved by federal\, state\, municip
 al and private/nonprofit organizations.  \n\nCPR\, AED And First Aid For C
 hildcare Providers  Features:\n\nThe Perfect Book For Caregivers Of Small 
 Children.\n\nOSHA-Compliant\n\n2-Year Certification (Including Pediatric F
 irst Aid) \n\nIdeal For:\n• Childcare Providers\n• Daycare Centers\n• Baby
 sitters\n\nCost: $65 -Cash or Check\; please bring payment to class. Check
 s can be made payable to 'Top Notch Training'\n\nMidwest Child Care Associ
 ation is in Room #200\n\nDate: 03/28/2020 (Saturday)\nTime: 9:00am - 1:00p
 m CST\nLocation: 7701 Pacific St\, Omaha\, NE 68114
X-WR-RELCALID:c80333e2dbea93ad564399fbe29f8a3c
X-WR-TIMEZONE:America/Chicago
BEGIN:VTIMEZONE
TZID:America/Chicago
BEGIN:STANDARD
TZNAME:CST
DTSTART:20191103T020000
TZOFFSETFROM:-0500
TZOFFSETTO:-0600
RDATE:20201101T020000
END:STANDARD
BEGIN:DAYLIGHT
TZNAME:CDT
DTSTART:20200308T020000
TZOFFSETFROM:-0600
TZOFFSETTO:-0500
RDATE:20210314T020000
END:DAYLIGHT
END:VTIMEZONE
BEGIN:VEVENT
UID:5d6f4683-b835-4c30-81f7-e7b9e6cceb0c
DTSTAMP:20260421T193200Z
DESCRIPTION:CPR\, AED AND FIRST AID FOR CHILDCARE PROVIDERS\n\nThe CPR\, AE
 D and First Aid for Childcare Providers course offered by EMS Safety Servi
 ces\, Inc. is OSHA compliant and is approved by federal\, state\, municipa
 l and private/nonprofit organizations.  \n\nCPR\, AED And First Aid For Ch
 ildcare Providers  Features:\n\nThe Perfect Book For Caregivers Of Small C
 hildren.\n\nOSHA-Compliant\n\n2-Year Certification (Including Pediatric Fi
 rst Aid) \n\nIdeal For:\n• Childcare Providers\n• Daycare Centers\n• Babys
 itters\n\nCost: $65 -Cash or Check\; please bring payment to class. Checks
  can be made payable to 'Top Notch Training'\n\nMidwest Child Care Associa
 tion is in Room #200\n\nDate: 03/28/2020 (Saturday)\nTime: 9:00am - 1:00pm
  CST\nLocation: 7701 Pacific St\, Omaha\, NE 68114
DTSTART;TZID=America/Chicago:20200328T090000
DTEND;TZID=America/Chicago:20200328T130000
LOCATION:7701 Pacific St\, Omaha\, NE 68114
SUMMARY:CPR\, First Aid\, and AED for Child Care Providers
END:VEVENT
END:VCALENDAR
